BEGIN:VCALENDAR
VERSION:2.0
PRODID:-// - ECPv5.3.1//NONSGML v1.0//EN
CALSCALE:GREGORIAN
METHOD:PUBLISH
X-ORIGINAL-URL:https://aarms.math.ca
X-WR-CALDESC:Events for 
BEGIN:VTIMEZONE
TZID:UTC
BEGIN:STANDARD
TZOFFSETFROM:+0000
TZOFFSETTO:+0000
TZNAME:UTC
DTSTART:20170101T000000
END:STANDARD
END:VTIMEZONE
BEGIN:VEVENT
DTSTART;VALUE=DATE:20170527
DTEND;VALUE=DATE:20170601
DTSTAMP:20260420T133511
CREATED:20170725T203843Z
LAST-MODIFIED:20170725T204402Z
UID:1702-1495843200-1496275199@aarms.math.ca
SUMMARY:2017 AARMS Workshops on Scientific Computing Software
DESCRIPTION:AARMS (the Atlantic Association for Research in the Mathematical Sciences)\, the AARMS Collaborative Research Group in Numerical Analysis and Scientific Computing\, the Centre for Numerical Analysis and Scientific Computing at Memorial University of Newfoundland\, and the Department of Mathematics and Computing Science at Saint Mary’s University will bring students and researchers interested in scientific computing to a 5-day workshop in beautiful St. John’s\, NL\, Canada. \nThe meeting will consist of two independent workshops\, a 2-day Software Carpentry workshop\, presented by ACENET Research Consultants on May 27-28\, 2017\, and a 3-day PETSc tutorial\, led by Prof. Jed Brown of CU-Boulder\, on May 29-31\, 2017.
URL:https://aarms.math.ca/event/2017-aarms-workshops-on-scientific-computing-software/
LOCATION:Memorial University (St. John’s Campus)\, St. John's\, Newfoundland and Labrador\, Canada
CATEGORIES:AARMS schools and minicourses,AARMS workshops and conferences
END:VEVENT
END:VCALENDAR