BEGIN:VCALENDAR
VERSION:2.0
PRODID:-// - ECPv5.3.1//NONSGML v1.0//EN
CALSCALE:GREGORIAN
METHOD:PUBLISH
X-ORIGINAL-URL:https://aarms.math.ca
X-WR-CALDESC:Events for 
BEGIN:VTIMEZONE
TZID:America/Halifax
BEGIN:DAYLIGHT
TZOFFSETFROM:-0400
TZOFFSETTO:-0300
TZNAME:ADT
DTSTART:20210314T060000
END:DAYLIGHT
BEGIN:STANDARD
TZOFFSETFROM:-0300
TZOFFSETTO:-0400
TZNAME:AST
DTSTART:20211107T050000
END:STANDARD
END:VTIMEZONE
BEGIN:VEVENT
DTSTART;TZID=America/Halifax:20210726T150000
DTEND;TZID=America/Halifax:20210726T163000
DTSTAMP:20260419T202431
CREATED:20200615T150024Z
LAST-MODIFIED:20210719T153453Z
UID:5924-1627311600-1627317000@aarms.math.ca
SUMMARY:AARMS COVID-19 Seminar:  Lam Ho (Dalhousie)
DESCRIPTION:Modelling the dynamics of COVID-19 epidemic\nManaging the COVID-19 pandemic has become the top priority since its inception in late 2019. Modelling the development of the epidemic is a crucial step for governments to make effective public health policies. In this talk\, we will discuss some challenges of studying the dynamics of the COVID-19 epidemic as well as our recent ideas that cut directly to the heart of these challenges. \nMore information about this seminar series.  This is a virtual zoom seminar.  If you would like to attend\, please email the organizers for connection details.  All times are given in the Atlantic timezone.
URL:https://aarms.math.ca/event/aarms-covid-19-seminar-2021-07-26/
LOCATION:Zoom seminar
CATEGORIES:AARMS COVID-19 Seminar
END:VEVENT
END:VCALENDAR