BEGIN:VCALENDAR
VERSION:2.0
PRODID:-// - ECPv5.3.1//NONSGML v1.0//EN
CALSCALE:GREGORIAN
METHOD:PUBLISH
X-ORIGINAL-URL:https://aarms.math.ca
X-WR-CALDESC:Events for 
BEGIN:VTIMEZONE
TZID:UTC
BEGIN:STANDARD
TZOFFSETFROM:+0000
TZOFFSETTO:+0000
TZNAME:UTC
DTSTART:20210101T000000
END:STANDARD
END:VTIMEZONE
BEGIN:VEVENT
DTSTART;VALUE=DATE:20210806
DTEND;VALUE=DATE:20210807
DTSTAMP:20260420T101326
CREATED:20210714T110437Z
LAST-MODIFIED:20210714T110437Z
UID:6153-1628208000-1628294399@aarms.math.ca
SUMMARY:AARMS CRG Online Workshop on Financial Mathematics and Actuarial Science
DESCRIPTION:The AARMS CRG Online Workshop on Financial Mathematics and Actuarial Science will be held August 6th\, 2020 in PEI\, Canada. This workshop is mainly hosted by the Atlantic Association for Research in Mathematical Sciences (AARMS) collaborative research group (CRG) and the School of Mathematical and Computational Sciences (SMCS) at University of Prince Edward Island (UPEI)\, Canada.
URL:https://aarms.math.ca/event/aarms-crg-online-workshop-on-financial-mathematics-and-actuarial-science/
LOCATION:Online via Zoom
CATEGORIES:AARMS workshops and conferences
ORGANIZER;CN="Alexander%20Alvarez":MAILTO:alalvarez@upei.ca
END:VEVENT
END:VCALENDAR