BEGIN:VCALENDAR
VERSION:2.0
PRODID:-// - ECPv5.3.1//NONSGML v1.0//EN
CALSCALE:GREGORIAN
METHOD:PUBLISH
X-ORIGINAL-URL:https://aarms.math.ca
X-WR-CALDESC:Events for 
BEGIN:VTIMEZONE
TZID:UTC
BEGIN:STANDARD
TZOFFSETFROM:+0000
TZOFFSETTO:+0000
TZNAME:UTC
DTSTART:20240101T000000
END:STANDARD
END:VTIMEZONE
BEGIN:VEVENT
DTSTART;VALUE=DATE:20240304
DTEND;VALUE=DATE:20240305
DTSTAMP:20260420T161011
CREATED:20240202T213320Z
LAST-MODIFIED:20240205T194411Z
UID:7523-1709510400-1709596799@aarms.math.ca
SUMMARY:Acadia Math Buffet
DESCRIPTION:Acadia’s Math Buffets are a chance for students in grades 9- 12 in Hants\, Kings and Annapolis counties to explore new and interactive topics in mathematics. In these 2-hour sessions\, students will learn about a variety of math topics\, such as networks\, Google page rank\, cryptography\, problem solving and how to win at darts.
URL:https://aarms.math.ca/event/acadia-math-buffet/
LOCATION:Acadia University\, Wolfville\, Nova Scotia\, Canada
CATEGORIES:AARMS outreach events
ORGANIZER;CN="Caroline%20Cochran":MAILTO:caroline.cochran@acadiau.ca
END:VEVENT
END:VCALENDAR