BEGIN:VCALENDAR
VERSION:2.0
PRODID:-// - ECPv5.3.1//NONSGML v1.0//EN
CALSCALE:GREGORIAN
METHOD:PUBLISH
X-ORIGINAL-URL:https://aarms.math.ca
X-WR-CALDESC:Events for 
BEGIN:VTIMEZONE
TZID:UTC
BEGIN:STANDARD
TZOFFSETFROM:+0000
TZOFFSETTO:+0000
TZNAME:UTC
DTSTART:20210101T000000
END:STANDARD
END:VTIMEZONE
BEGIN:VEVENT
DTSTART;TZID=UTC:20210210T153000
DTEND;TZID=UTC:20210210T163000
DTSTAMP:20260420T003818
CREATED:20201006T115021Z
LAST-MODIFIED:20210212T180031Z
UID:5732-1612971000-1612974600@aarms.math.ca
SUMMARY:Atlantic Graph Theory Seminar: Dr Anthony Bonato\, Ryerson University
DESCRIPTION:The localization game played on graph\nGraph searching investigates combinatorial models for the detection or neutralization of an adversary’s activity on a network. One such model is the localization game\, where pursuers use distance probes to capture an invisible evader. We present new results on the localization number of a graph\, which is the minimum number of pursuers needed to capture the evader. We survey what is known and unknown for the localization number\, discuss connections with the chromatic number\, and give bounds on graph families such as hypercubes\, incidence graphs of combinatorial designs\, and Kneser graphs. \nThe Atlantic Graph Theory Seminar series will take place every Wednesday from 3:30-4:30 ADT online via zoom. The talks\, provided by researchers\, postdocs and graduate students\, will be on a variety of current topics in graph theory. If you would like to give a talk or attend\, please email one of the organizers (Jason Brown and Danielle Cox).
URL:https://aarms.math.ca/event/atlantic-graph-theory-seminar-2021-02-10/
LOCATION:Zoom seminar
CATEGORIES:Atlantic Graph Theory Seminar
ORGANIZER;CN="Jason%20Brown":MAILTO:jason.brown@dal.ca
END:VEVENT
END:VCALENDAR