BEGIN:VCALENDAR
VERSION:2.0
PRODID:-// - ECPv5.3.1//NONSGML v1.0//EN
CALSCALE:GREGORIAN
METHOD:PUBLISH
X-ORIGINAL-URL:https://aarms.math.ca
X-WR-CALDESC:Events for 
BEGIN:VTIMEZONE
TZID:UTC
BEGIN:STANDARD
TZOFFSETFROM:+0000
TZOFFSETTO:+0000
TZNAME:UTC
DTSTART:20250101T000000
END:STANDARD
END:VTIMEZONE
BEGIN:VEVENT
DTSTART;VALUE=DATE:20250818
DTEND;VALUE=DATE:20250822
DTSTAMP:20260420T063325
CREATED:20240925T120751Z
LAST-MODIFIED:20250106T140454Z
UID:7690-1755475200-1755820799@aarms.math.ca
SUMMARY:Mathematics and its Connections to the Arts and Sciences Symposium
DESCRIPTION:The MACAS initiative aims to advance humanistic education by integrating various disciplines\, inspired by Renaissance philosophers. This approach encourages students to explore multiple fields while fostering a holistic perspective through connections between mathematics\, the arts\, and sciences. In the 21st century\, the importance of interdisciplinary and multidisciplinary education has grown\, with mathematics serving as a key link between different fields. MACAS—Mathematics and its Connections to The Arts and Sciences—unites educators and researchers from these areas\, including both leading experts and emerging talents. The conference will serve as a platform for scientific exchange\, fostering new partnerships and encouraging reflection on commonalities and differences in various viewpoints and approaches.
URL:https://aarms.math.ca/event/mathematics-and-its-connections-to-the-arts-and-sciences-symposium/
LOCATION:Université de Moncton\, 18 Antonine-Maillet Ave\, Moncton\, New Brunswick\, NB E1A 3E9\, Canada
CATEGORIES:AARMS sponsored events
ORGANIZER;CN="Manon%20Leblanc":MAILTO:manon.leblanc@umoncton.ca
END:VEVENT
END:VCALENDAR