BEGIN:VCALENDAR
VERSION:2.0
PRODID:-// - ECPv5.3.1//NONSGML v1.0//EN
CALSCALE:GREGORIAN
METHOD:PUBLISH
X-ORIGINAL-URL:https://aarms.math.ca
X-WR-CALDESC:Events for 
BEGIN:VTIMEZONE
TZID:UTC
BEGIN:STANDARD
TZOFFSETFROM:+0000
TZOFFSETTO:+0000
TZNAME:UTC
DTSTART:20170101T000000
END:STANDARD
END:VTIMEZONE
BEGIN:VEVENT
DTSTART;VALUE=DATE:20170812
DTEND;VALUE=DATE:20170820
DTSTAMP:20260420T145748
CREATED:20170725T205629Z
LAST-MODIFIED:20170725T205635Z
UID:1724-1502496000-1503187199@aarms.math.ca
SUMMARY:The XI Americas Conference on Differential Equations and Nonlinear Analysis
DESCRIPTION:We invite you to participate in the 11th Americas Conference on Differential Equations and Nonlinear Analysis (Americas XI) at the University of Alberta in Edmonton\, from August 12-19\, 2017. \nThe XI Americas Conference brings together mathematicians from throughout the Americas to share their recent research findings\, to assess recent research developments\, to identify new research directions\, and to strengthen existing and foster new collaborations in the broad field of differential equations and nonlinear analysis. \nThe Americas Conference on Differential Equations and Nonlinear Analysis (Americas Conference) was initiated in 1994 to facilitate collaboration among researchers from Latin America\, USA and Canada in this area of Mathematics. The first meeting took place in Taxco\, Mexico\, in 1994 with the participation of 25 lecturers from the USA\, Brazil\, Mexico and Venezuela. Since then\, meetings have taken place on a regular basis: Sao Paulo\, Brazil\, in 1996; Atlanta\, USA\, in 1998; Merida\, Venezuela\, in 2000; Edmonton\, Canada in 2002\, Santiago\, Chile\, in 2005; Cartagena\, Colombia in 2007; Veracruz\, Mexico\, in 2009; Trujillo\, Peru\, in 2012; and Buenos Aires\, Argentina in 2015. \nThis conference series is a well-established forum for mathematics with applications ranging from natural and social sciences to engineering. From its inception\, the conference has striven to promote collaborative scientific networks\, to emphasize high standards of research\, and to welcome young mathematicians from the Americas into the broader scientific community.
URL:https://aarms.math.ca/event/the-xi-americas-conference-on-differential-equations-and-nonlinear-analysis/
LOCATION:University of Alberta\, Edmonton\, Alberta\, Canada
CATEGORIES:AARMS sponsored events
END:VEVENT
END:VCALENDAR